Workbook

Sheet Sheet1
B2: GL | C2: Dept | D2: Description | E2: Dr | F2: Cr | G2: Net amount
B4: Laundry allocation | C4: Front Office | D4: Laundry & Dry Cleaning | E4: =Cost!D29 -> 597.35 | G4: =E4-F4 -> 597.35
B5: Laundry allocation | C5: Housekeeping | D5: Laundry & Dry Cleaning | E5: =Cost!E29 -> 45753.17 | G5: =E5-F5 -> 45753.17
B6: Laundry allocation | C6: Kitchen | D6: Laundry & Dry Cleaning | E6: =Cost!F29 -> 206.11 | G6: =E6-F6 -> 206.11
B7: Laundry allocation | C7: F&B Outlets | D7: Laundry & Dry Cleaning | E7: =Cost!G29 -> 5743.42 | G7: =E7-F7 -> 5743.42
B8: Laundry allocation | C8: F&B Admin | D8: Laundry & Dry Cleaning | E8: =Cost!H29 -> 0 | G8: =E8-F8 -> 0
B9: Laundry allocation | C9: SPA | D9: Laundry & Dry Cleaning | E9: =Cost!I29 -> 4349.63 | G9: =E9-F9 -> 4349.63
B10: Laundry allocation | C10: Sports & Recn | D10: Laundry & Dry Cleaning | E10: =Cost!J29 -> 15298.7 | G10: =E10-F10 -> 15298.7
B11: Laundry allocation | C11: OOD | D11: Laundry & Dry Cleaning | E11: =Cost!K29 -> 15298.7 | G11: =E11-F11 -> 15298.7
B12: Laundry allocation | C12: Admin General | D12: Laundry & Dry Cleaning | E12: =Cost!L29 -> 0 | G12: =E12-F12 -> 0
B13: Laundry allocation | C13: Finance | D13: Laundry & Dry Cleaning | E13: =Cost!M29 -> 0 | G13: =E13-F13 -> 0
B14: Laundry allocation | C14: HR | D14: Laundry & Dry Cleaning | E14: =Cost!N29 -> 6351.68 | G14: =E14-F14 -> 6351.68
B15: Laundry allocation | C15: Maintenance | D15: Laundry & Dry Cleaning | E15: =Cost!O29 -> 0 | G15: =E15-F15 -> 0
B16: Laundry COS allocation | C16: Guest | D16: Laundry COS | E16: =Cost!P29 -> 1029.07 | G16: =E16-F16 -> 1029.07
G17: =E17-F17 -> 0
B18: Uniform allocation | C18: Front Office | D18: Uniform Cleaning | E18: =Cost!D39 -> 548.42 | G18: =E18-F18 -> 548.42
B19: Uniform allocation | C19: Housekeeping | D19: Uniform Cleaning | E19: =Cost!E39 -> 2653.46 | G19: =E19-F19 -> 2653.46
B20: Uniform allocation | C20: Kitchen | D20: Uniform Cleaning | E20: =Cost!F39 -> 7500.46 | G20: =E20-F20 -> 7500.46
B21: Uniform allocation | C21: F&B Outlets | D21: Uniform Cleaning | E21: =Cost!G39 -> 1735.45 | G21: =E21-F21 -> 1735.45
B22: Uniform allocation | C22: F&B Admin | D22: Uniform Cleaning | E22: =Cost!H39 -> 1200.19 | G22: =E22-F22 -> 1200.19
B23: Uniform allocation | C23: SPA | D23: Uniform Cleaning | E23: =Cost!I39 -> 296.99 | G23: =E23-F23 -> 296.99
B24: Uniform allocation | C24: Sports & Recn | D24: Uniform Cleaning | E24: =Cost!J39 -> 0 | G24: =E24-F24 -> 0
B25: Uniform allocation | C25: OOD | D25: Uniform Cleaning | E25: =Cost!K39 -> 0 | G25: =E25-F25 -> 0
B26: Uniform allocation | C26: Admin General | D26: Uniform Cleaning | E26: =Cost!L39 -> 1200.19 | G26: =E26-F26 -> 1200.19
B27: Uniform allocation | C27: Finance | D27: Uniform Cleaning | E27: =Cost!M39 -> 1200.19 | G27: =E27-F27 -> 1200.19
B28: Uniform allocation | C28: HR | D28: Uniform Cleaning | E28: =Cost!N39 -> 4967.38 | G28: =E28-F28 -> 4967.38
B29: Uniform allocation | C29: Maintenance | D29: Uniform Cleaning | E29: =Cost!O39 -> 2143.92 | G29: =E29-F29 -> 2143.92
G30: =E30-F30 -> 0
B31: Laundry allocation | C31: House Laundry | D31: Laundry & Dry Cleaning | F31: =SUMIFS(E:E,D:D,D31) -> 93598.76 | G31: =E31-F31 -> -93598.76
B32: Laundry COS allocation | C32: House Laundry | D32: Laundry COS | F32: =SUMIFS(E:E,D:D,D32) -> 1029.07 | G32: =E32-F32 -> -1029.07
B33: Uniform allocation | C33: House Laundry | D33: Uniform Cleaning | F33: =SUMIFS(E:E,D:D,D33) -> 23446.65 | G33: =E33-F33 -> -23446.65
G35: =SUM(G3:G34) -> 2.910383e-11
G36: Check Zero

Sheet Cost
B1: HOTELS AND RESORT NAME
B2: APPORTIONMENT OF LOUNDRY EXPENSE
B3: MONTH OF NOVEMBER 2025
B4: Loundry supply & expenses | E4: =97581.49+20492.97 -> 118074.46 | G4: Pls enter the cost here
B6: ITEMS | C6: KG/PCs | D6: Front Office | E6: Housekeeping | F6: Kitchen | G6: F&B Outlets | H6: F&B Admin | I6: SPA | J6: Sports & Recn | K6: OOD | L6: Admin General | M6: Finance | N6: HR | O6: Maintenance | P6: Guest | Q6: Total Cost | R6: Total KG
B7: BAR NAPKIN | C7: 0.03 | D7: =$C7*Count!D5*$E$4/($R$29+$R$39) -> 0 | E7: =$C7*Count!E5*$E$4/($R$29+$R$39) -> 0 | F7: =$C7*Count!F5*$E$4/($R$29+$R$39) -> 0 | G7: =$C7*Count!G5*$E$4/($R$29+$R$39) -> 270.82107 | H7: =$C7*Count!H5*$E$4/($R$29+$R$39) -> 0 | I7: =$C7*Count!I5*$E$4/($R$29+$R$39) -> 0 | J7: =$C7*Count!J5*$E$4/($R$29+$R$39) -> 0 | K7: =$C7*Count!K5*$E$4/($R$29+$R$39) -> 0 | ... P7: =$C7*Count!P5*$E$4/($R$29+$R$39) -> 0 | Q7: =ROUND(SUM(D7:P7),2) -> 270.82 | R7: =$C7*Count!$Q5 -> 32.58
B8: BATH MAT | C8: 0.38 | D8: =$C8*Count!D6*$E$4/($R$29+$R$39) -> 0 | E8: =$C8*Count!E6*$E$4/($R$29+$R$39) -> 4526.4857 | F8: =$C8*Count!F6*$E$4/($R$29+$R$39) -> 0 | G8: =$C8*Count!G6*$E$4/($R$29+$R$39) -> 0 | H8: =$C8*Count!H6*$E$4/($R$29+$R$39) -> 0 | I8: =$C8*Count!I6*$E$4/($R$29+$R$39) -> 293.76355 | J8: =$C8*Count!J6*$E$4/($R$29+$R$39) -> 0 | K8: =$C8*Count!K6*$E$4/($R$29+$R$39) -> 0 | ... P8: =$C8*Count!P6*$E$4/($R$29+$R$39) -> 0 | Q8: =ROUND(SUM(D8:P8),2) -> 4908.69 | R8: =$C8*Count!$Q6 -> 590.52
B9: BATH ROBE | C9: 0.6 | D9: =$C9*Count!D7*$E$4/($R$29+$R$39) -> 0 | E9: =$C9*Count!E7*$E$4/($R$29+$R$39) -> 0 | F9: =$C9*Count!F7*$E$4/($R$29+$R$39) -> 0 | G9: =$C9*Count!G7*$E$4/($R$29+$R$39) -> 0 | H9: =$C9*Count!H7*$E$4/($R$29+$R$39) -> 0 | I9: =$C9*Count!I7*$E$4/($R$29+$R$39) -> 812.96195 | J9: =$C9*Count!J7*$E$4/($R$29+$R$39) -> 0 | K9: =$C9*Count!K7*$E$4/($R$29+$R$39) -> 0 | ... P9: =$C9*Count!P7*$E$4/($R$29+$R$39) -> 0 | Q9: =ROUND(SUM(D9:P9),2) -> 812.96 | R9: =$C9*Count!$Q7 -> 97.8
B10: BATH TOWEL | C10: 0.67 | D10: =$C10*Count!D8*$E$4/($R$29+$R$39) -> 0 | E10: =$C10*Count!E8*$E$4/($R$29+$R$39) -> 12202.492 | F10: =$C10*Count!F8*$E$4/($R$29+$R$39) -> 0 | G10: =$C10*Count!G8*$E$4/($R$29+$R$39) -> 0 | H10: =$C10*Count!H8*$E$4/($R$29+$R$39) -> 0 | I10: =$C10*Count!I8*$E$4/($R$29+$R$39) -> 2188.7629 | J10: =$C10*Count!J8*$E$4/($R$29+$R$39) -> 0 | K10: =$C10*Count!K8*$E$4/($R$29+$R$39) -> 0 | ... P10: =$C10*Count!P8*$E$4/($R$29+$R$39) -> 0 | Q10: =ROUND(SUM(D10:P10),2) -> 15538.55 | R10: =$C10*Count!$Q8 -> 1869.3
B11: BED SHEET | C11: 1.11 | D11: =$C11*Count!D9*$E$4/($R$29+$R$39) -> 0 | E11: =$C11*Count!E9*$E$4/($R$29+$R$39) -> 9273.0031 | F11: =$C11*Count!F9*$E$4/($R$29+$R$39) -> 0 | G11: =$C11*Count!G9*$E$4/($R$29+$R$39) -> 0 | H11: =$C11*Count!H9*$E$4/($R$29+$R$39) -> 0 | I11: =$C11*Count!I9*$E$4/($R$29+$R$39) -> 0 | J11: =$C11*Count!J9*$E$4/($R$29+$R$39) -> 0 | K11: =$C11*Count!K9*$E$4/($R$29+$R$39) -> 0 | ... P11: =$C11*Count!P9*$E$4/($R$29+$R$39) -> 0 | Q11: =ROUND(SUM(D11:P11),2) -> 13951.03 | R11: =$C11*Count!$Q9 -> 1678.32
B12: CUSSION COVER | C12: 0.21 | D12: =$C12*Count!D10*$E$4/($R$29+$R$39) -> 0 | E12: =$C12*Count!E10*$E$4/($R$29+$R$39) -> 0 | F12: =$C12*Count!F10*$E$4/($R$29+$R$39) -> 0 | G12: =$C12*Count!G10*$E$4/($R$29+$R$39) -> 212.9661 | H12: =$C12*Count!H10*$E$4/($R$29+$R$39) -> 0 | I12: =$C12*Count!I10*$E$4/($R$29+$R$39) -> 0 | J12: =$C12*Count!J10*$E$4/($R$29+$R$39) -> 0 | K12: =$C12*Count!K10*$E$4/($R$29+$R$39) -> 0 | ... P12: =$C12*Count!P10*$E$4/($R$29+$R$39) -> 0 | Q12: =ROUND(SUM(D12:P12),2) -> 212.97 | R12: =$C12*Count!$Q10 -> 25.62
B13: DUSTERS | C13: 0.053 | D13: =$C13*Count!D11*$E$4/($R$29+$R$39) -> 0 | E13: =$C13*Count!E11*$E$4/($R$29+$R$39) -> 196.49074 | F13: =$C13*Count!F11*$E$4/($R$29+$R$39) -> 0 | G13: =$C13*Count!G11*$E$4/($R$29+$R$39) -> 285.48431 | H13: =$C13*Count!H11*$E$4/($R$29+$R$39) -> 0 | I13: =$C13*Count!I11*$E$4/($R$29+$R$39) -> 0 | J13: =$C13*Count!J11*$E$4/($R$29+$R$39) -> 0 | K13: =$C13*Count!K11*$E$4/($R$29+$R$39) -> 0 | ... P13: =$C13*Count!P11*$E$4/($R$29+$R$39) -> 0 | Q13: =ROUND(SUM(D13:P13),2) -> 481.98 | R13: =$C13*Count!$Q11 -> 57.982
B14: FACE TOWEL | C14: 0.058 | D14: =$C14*Count!D12*$E$4/($R$29+$R$39) -> 0 | E14: =$C14*Count!E12*$E$4/($R$29+$R$39) -> 573.72836 | F14: =$C14*Count!F12*$E$4/($R$29+$R$39) -> 0 | G14: =$C14*Count!G12*$E$4/($R$29+$R$39) -> 0 | H14: =$C14*Count!H12*$E$4/($R$29+$R$39) -> 0 | I14: =$C14*Count!I12*$E$4/($R$29+$R$39) -> 56.890711 | J14: =$C14*Count!J12*$E$4/($R$29+$R$39) -> 0 | K14: =$C14*Count!K12*$E$4/($R$29+$R$39) -> 0 | ... P14: =$C14*Count!P12*$E$4/($R$29+$R$39) -> 0 | Q14: =ROUND(SUM(D14:P14),2) -> 630.62 | R14: =$C14*Count!$Q12 -> 75.864
B15: W/FACE TOWEL | C15: 0.058 | D15: =$C15*Count!D13*$E$4/($R$29+$R$39) -> 597.35247 | E15: =$C15*Count!E13*$E$4/($R$29+$R$39) -> 0 | F15: =$C15*Count!F13*$E$4/($R$29+$R$39) -> 0 | G15: =$C15*Count!G13*$E$4/($R$29+$R$39) -> 0 | H15: =$C15*Count!H13*$E$4/($R$29+$R$39) -> 0 | I15: =$C15*Count!I13*$E$4/($R$29+$R$39) -> 0 | J15: =$C15*Count!J13*$E$4/($R$29+$R$39) -> 0 | K15: =$C15*Count!K13*$E$4/($R$29+$R$39) -> 0 | ... P15: =$C15*Count!P13*$E$4/($R$29+$R$39) -> 0 | Q15: =ROUND(SUM(D15:P15),2) -> 597.35 | R15: =$C15*Count!$Q13 -> 71.862
B16: GUEST LAUNDRY | C16: 0.282 | D16: =$C16*Count!D14*$E$4/($R$29+$R$39) -> 0 | E16: =$C16*Count!E14*$E$4/($R$29+$R$39) -> 0 | F16: =$C16*Count!F14*$E$4/($R$29+$R$39) -> 0 | G16: =$C16*Count!G14*$E$4/($R$29+$R$39) -> 0 | H16: =$C16*Count!H14*$E$4/($R$29+$R$39) -> 0 | I16: =$C16*Count!I14*$E$4/($R$29+$R$39) -> 0 | J16: =$C16*Count!J14*$E$4/($R$29+$R$39) -> 0 | K16: =$C16*Count!K14*$E$4/($R$29+$R$39) -> 0 | ... P16: =$C16*Count!P14*$E$4/($R$29+$R$39) -> 1029.0702 | Q16: =ROUND(SUM(D16:P16),2) -> 1029.07 | R16: =$C16*Count!$Q14 -> 123.798
B17: GYM TOWEL | C17: 0.65 | D17: =$C17*Count!D15*$E$4/($R$29+$R$39) -> 0 | E17: =$C17*Count!E15*$E$4/($R$29+$R$39) -> 0 | F17: =$C17*Count!F15*$E$4/($R$29+$R$39) -> 0 | G17: =$C17*Count!G15*$E$4/($R$29+$R$39) -> 232.33422 | H17: =$C17*Count!H15*$E$4/($R$29+$R$39) -> 0 | I17: =$C17*Count!I15*$E$4/($R$29+$R$39) -> 0 | J17: =$C17*Count!J15*$E$4/($R$29+$R$39) -> 0 | K17: =$C17*Count!K15*$E$4/($R$29+$R$39) -> 0 | ... P17: =$C17*Count!P15*$E$4/($R$29+$R$39) -> 0 | Q17: =ROUND(SUM(D17:P17),2) -> 232.33 | R17: =$C17*Count!$Q15 -> 27.95
B18: HAND TOWEL | C18: 0.186 | D18: =$C18*Count!D16*$E$4/($R$29+$R$39) -> 0 | E18: =$C18*Count!E16*$E$4/($R$29+$R$39) -> 2229.5107 | F18: =$C18*Count!F16*$E$4/($R$29+$R$39) -> 0 | G18: =$C18*Count!G16*$E$4/($R$29+$R$39) -> 0 | H18: =$C18*Count!H16*$E$4/($R$29+$R$39) -> 0 | I18: =$C18*Count!I16*$E$4/($R$29+$R$39) -> 176.25813 | J18: =$C18*Count!J16*$E$4/($R$29+$R$39) -> 0 | K18: =$C18*Count!K16*$E$4/($R$29+$R$39) -> 0 | ... P18: =$C18*Count!P16*$E$4/($R$29+$R$39) -> 0 | Q18: =ROUND(SUM(D18:P18),2) -> 2405.77 | R18: =$C18*Count!$Q16 -> 289.416
... B27: UNIFORM - Outside | C27: 0.282 | D27: =$C27*Count!D25*$E$4/($R$29+$R$39) -> 0 | E27: =$C27*Count!E25*$E$4/($R$29+$R$39) -> 0 | F27: =$C27*Count!F25*$E$4/($R$29+$R$39) -> 0 | G27: =$C27*Count!G25*$E$4/($R$29+$R$39) -> 0 | H27: =$C27*Count!H25*$E$4/($R$29+$R$39) -> 0 | I27: =$C27*Count!I25*$E$4/($R$29+$R$39) -> 0 | J27: =$C27*Count!J25*$E$4/($R$29+$R$39) -> 0 | K27: =$C27*Count!K25*$E$4/($R$29+$R$39) -> 0 | ... P27: =$C27*Count!P25*$E$4/($R$29+$R$39) -> 0 | Q27: =ROUND(SUM(D27:P27),2) -> 0 | R27: =$C27*Count!$Q25 -> 0
B28: OTHER | D28: =$C28*Count!D26*$E$4/($R$29+$R$39) -> 0 | E28: =$C28*Count!E26*$E$4/($R$29+$R$39) -> 0 | F28: =$C28*Count!F26*$E$4/($R$29+$R$39) -> 0 | G28: =$C28*Count!G26*$E$4/($R$29+$R$39) -> 0 | H28: =$C28*Count!H26*$E$4/($R$29+$R$39) -> 0 | I28: =$C28*Count!I26*$E$4/($R$29+$R$39) -> 0 | J28: =$C28*Count!J26*$E$4/($R$29+$R$39) -> 0 | K28: =$C28*Count!K26*$E$4/($R$29+$R$39) -> 0 | ... P28: =$C28*Count!P26*$E$4/($R$29+$R$39) -> 0 | Q28: =ROUND(SUM(D28:P28),2) -> 0 | R28: =$C28*Count!$Q26 -> 0
D29: =ROUND(SUM(D7:D28),2) -> 597.35 | E29: =ROUND(SUM(E7:E28),2) -> 45753.17 | F29: =ROUND(SUM(F7:F28),2) -> 206.11 | G29: =ROUND(SUM(G7:G28),2) -> 5743.42 | H29: =ROUND(SUM(H7:H28),2) -> 0 | I29: =ROUND(SUM(I7:I28),2) -> 4349.63 | J29: =ROUND(SUM(J7:J28),2) -> 15298.7 | K29: =ROUND(SUM(K7:K28),2) -> 15298.7 | ... Q29: =ROUND(SUM(Q7:Q28),2) -> 94627.83 | R29: =SUM(R7:R28) -> 11383.805
B31: ENG/UNIFORM | C31: 0.331 | D31: =$C31*Count!D29*$E$4/($R$29+$R$39) -> 0 | E31: =$C31*Count!E29*$E$4/($R$29+$R$39) -> 0 | F31: =$C31*Count!F29*$E$4/($R$29+$R$39) -> 0 | G31: =$C31*Count!G29*$E$4/($R$29+$R$39) -> 0 | H31: =$C31*Count!H29*$E$4/($R$29+$R$39) -> 0 | I31: =$C31*Count!I29*$E$4/($R$29+$R$39) -> 0 | J31: =$C31*Count!J29*$E$4/($R$29+$R$39) -> 0 | K31: =$C31*Count!K29*$E$4/($R$29+$R$39) -> 0 | ... P31: =$C31*Count!P29*$E$4/($R$29+$R$39) -> 0 | Q31: =ROUND(SUM(D31:P31),2) -> 1125.34 | R31: =$C31*Count!$Q29 -> 135.379
B32: GRD/UNIFROM | C32: 0.289 | D32: =$C32*Count!D30*$E$4/($R$29+$R$39) -> 0 | E32: =$C32*Count!E30*$E$4/($R$29+$R$39) -> 0 | F32: =$C32*Count!F30*$E$4/($R$29+$R$39) -> 0 | G32: =$C32*Count!G30*$E$4/($R$29+$R$39) -> 0 | H32: =$C32*Count!H30*$E$4/($R$29+$R$39) -> 0 | I32: =$C32*Count!I30*$E$4/($R$29+$R$39) -> 0 | J32: =$C32*Count!J30*$E$4/($R$29+$R$39) -> 0 | K32: =$C32*Count!K30*$E$4/($R$29+$R$39) -> 0 | ... P32: =$C32*Count!P30*$E$4/($R$29+$R$39) -> 0 | Q32: =ROUND(SUM(D32:P32),2) -> 1018.58 | R32: =$C32*Count!$Q30 -> 122.536
B33: COOK UNIFORM | C33: 0.284 | D33: =$C33*Count!D31*$E$4/($R$29+$R$39) -> 0 | E33: =$C33*Count!E31*$E$4/($R$29+$R$39) -> 0 | F33: =$C33*Count!F31*$E$4/($R$29+$R$39) -> 5604.4167 | G33: =$C33*Count!G31*$E$4/($R$29+$R$39) -> 0 | H33: =$C33*Count!H31*$E$4/($R$29+$R$39) -> 0 | I33: =$C33*Count!I31*$E$4/($R$29+$R$39) -> 0 | J33: =$C33*Count!J31*$E$4/($R$29+$R$39) -> 0 | K33: =$C33*Count!K31*$E$4/($R$29+$R$39) -> 0 | ... P33: =$C33*Count!P31*$E$4/($R$29+$R$39) -> 0 | Q33: =ROUND(SUM(D33:P33),2) -> 5604.42 | R33: =$C33*Count!$Q31 -> 674.216
B34: STW/UNIFORM | C34: 0.343 | D34: =$C34*Count!D32*$E$4/($R$29+$R$39) -> 0 | E34: =$C34*Count!E32*$E$4/($R$29+$R$39) -> 0 | F34: =$C34*Count!F32*$E$4/($R$29+$R$39) -> 1896.0384 | G34: =$C34*Count!G32*$E$4/($R$29+$R$39) -> 0 | H34: =$C34*Count!H32*$E$4/($R$29+$R$39) -> 0 | I34: =$C34*Count!I32*$E$4/($R$29+$R$39) -> 0 | J34: =$C34*Count!J32*$E$4/($R$29+$R$39) -> 0 | K34: =$C34*Count!K32*$E$4/($R$29+$R$39) -> 0 | ... P34: =$C34*Count!P32*$E$4/($R$29+$R$39) -> 0 | Q34: =ROUND(SUM(D34:P34),2) -> 1896.04 | R34: =$C34*Count!$Q32 -> 228.095
B35: UNIFORM | C35: 0.203 | D35: =$C35*Count!D33*$E$4/($R$29+$R$39) -> 548.41681 | E35: =$C35*Count!E33*$E$4/($R$29+$R$39) -> 1643.563 | F35: =$C35*Count!F33*$E$4/($R$29+$R$39) -> 0 | G35: =$C35*Count!G33*$E$4/($R$29+$R$39) -> 1184.5803 | H35: =$C35*Count!H33*$E$4/($R$29+$R$39) -> 0 | I35: =$C35*Count!I33*$E$4/($R$29+$R$39) -> 296.9888 | J35: =$C35*Count!J33*$E$4/($R$29+$R$39) -> 0 | K35: =$C35*Count!K33*$E$4/($R$29+$R$39) -> 0 | ... P35: =$C35*Count!P33*$E$4/($R$29+$R$39) -> 0 | Q35: =ROUND(SUM(D35:P35),2) -> 4196.65 | R35: =$C35*Count!$Q33 -> 504.861
B36: UNIFORM(sup) | C36: 0.282 | D36: =$C36*Count!D34*$E$4/($R$29+$R$39) -> 0 | E36: =$C36*Count!E34*$E$4/($R$29+$R$39) -> 365.68325 | F36: =$C36*Count!F34*$E$4/($R$29+$R$39) -> 0 | G36: =$C36*Count!G34*$E$4/($R$29+$R$39) -> 550.869 | H36: =$C36*Count!H34*$E$4/($R$29+$R$39) -> 1200.1912 | I36: =$C36*Count!I34*$E$4/($R$29+$R$39) -> 0 | J36: =$C36*Count!J34*$E$4/($R$29+$R$39) -> 0 | K36: =$C36*Count!K34*$E$4/($R$29+$R$39) -> 0 | ... P36: =$C36*Count!P34*$E$4/($R$29+$R$39) -> 0 | Q36: =ROUND(SUM(D36:P36),2) -> 4517.13 | R36: =$C36*Count!$Q34 -> 543.414
B37: LAUNDRY UNIFORM | C37: 0.25 | D37: =$C37*Count!D35*$E$4/($R$29+$R$39) -> 0 | E37: =$C37*Count!E35*$E$4/($R$29+$R$39) -> 644.21831 | F37: =$C37*Count!F35*$E$4/($R$29+$R$39) -> 0 | G37: =$C37*Count!G35*$E$4/($R$29+$R$39) -> 0 | H37: =$C37*Count!H35*$E$4/($R$29+$R$39) -> 0 | I37: =$C37*Count!I35*$E$4/($R$29+$R$39) -> 0 | J37: =$C37*Count!J35*$E$4/($R$29+$R$39) -> 0 | K37: =$C37*Count!K35*$E$4/($R$29+$R$39) -> 0 | ... P37: =$C37*Count!P35*$E$4/($R$29+$R$39) -> 0 | Q37: =ROUND(SUM(D37:P37),2) -> 644.22 | R37: =$C37*Count!$Q35 -> 77.5
B38: EXECUTIVE CLOTH | C38: 0.289 | D38: =$C38*Count!D36*$E$4/($R$29+$R$39) -> 0 | E38: =$C38*Count!E36*$E$4/($R$29+$R$39) -> 0 | F38: =$C38*Count!F36*$E$4/($R$29+$R$39) -> 0 | G38: =$C38*Count!G36*$E$4/($R$29+$R$39) -> 0 | H38: =$C38*Count!H36*$E$4/($R$29+$R$39) -> 0 | I38: =$C38*Count!I36*$E$4/($R$29+$R$39) -> 0 | J38: =$C38*Count!J36*$E$4/($R$29+$R$39) -> 0 | K38: =$C38*Count!K36*$E$4/($R$29+$R$39) -> 0 | ... P38: =$C38*Count!P36*$E$4/($R$29+$R$39) -> 0 | Q38: =ROUND(SUM(D38:P38),2) -> 4444.28 | R38: =$C38*Count!$Q36 -> 534.65
D39: =ROUND(SUM(D31:D38),2) -> 548.42 | E39: =ROUND(SUM(E31:E38),2) -> 2653.46 | F39: =ROUND(SUM(F31:F38),2) -> 7500.46 | G39: =ROUND(SUM(G31:G38),2) -> 1735.45 | H39: =ROUND(SUM(H31:H38),2) -> 1200.19 | I39: =ROUND(SUM(I31:I38),2) -> 296.99 | J39: =ROUND(SUM(J31:J38),2) -> 0 | K39: =ROUND(SUM(K31:K38),2) -> 0 | ... Q39: =ROUND(SUM(Q31:Q38),2) -> 23446.66 | R39: =SUM(R30:R38) -> 2820.651

Sheet Count
B1: HOTELS AND RESORT NAME
B2: LOUNDRY COUNT
B4: ITEMS | C4: KG/PCs | D4: Front Office | E4: Housekeeping | F4: Kitchen | G4: F&B Outlets | H4: F&B Admin | I4: SPA | J4: Sports & Recn | K4: OOD | L4: Admin General | M4: Finance | N4: HR | O4: Maintenance | P4: Guest | Q4: Total
B5: BAR NAPKIN | C5: 0.03 | D5: 0 | E5: 0 | F5: 0 | G5: 1086 | H5: 0 | I5: 0 | J5: 0 | K5: 0 | L5: 0 | M5: 0 | N5: 0 | O5: 0 | P5: 0 | Q5: =SUM(D5:P5) -> 1086
B6: BATH MAT | C6: 0.38 | D6: 0 | E6: 1433 | F6: 0 | G6: 0 | H6: 0 | I6: 93 | J6: 0 | K6: 0 | L6: 0 | M6: 0 | N6: 28 | O6: 0 | P6: 0 | Q6: =SUM(D6:P6) -> 1554
B7: BATH ROBE | C7: 0.6 | D7: 0 | E7: 0 | F7: 0 | G7: 0 | H7: 0 | I7: 163 | J7: 0 | K7: 0 | L7: 0 | M7: 0 | N7: 0 | O7: 0 | P7: 0 | Q7: =SUM(D7:P7) -> 163
B8: BATH TOWEL | C8: 0.67 | D8: 0 | E8: 2191 | F8: 0 | G8: 0 | H8: 0 | I8: 393 | J8: 0 | K8: 0 | L8: 0 | M8: 0 | N8: 206 | O8: 0 | P8: 0 | Q8: =SUM(D8:P8) -> 2790
B9: BED SHEET | C9: 1.11 | D9: 0 | E9: 1005 | F9: 0 | G9: 0 | H9: 0 | I9: 0 | J9: 0 | K9: 0 | L9: 0 | M9: 0 | N9: 507 | O9: 0 | P9: 0 | Q9: =SUM(D9:P9) -> 1512
B10: CUSSION COVER | C10: 0.21 | D10: 0 | E10: 0 | F10: 0 | G10: 122 | H10: 0 | I10: 0 | J10: 0 | K10: 0 | L10: 0 | M10: 0 | N10: 0 | O10: 0 | P10: 0 | Q10: =SUM(D10:P10) -> 122
B11: DUSTERS | C11: 0.053 | D11: 0 | E11: 446 | F11: 0 | G11: 648 | H11: 0 | I11: 0 | J11: 0 | K11: 0 | L11: 0 | M11: 0 | N11: 0 | O11: 0 | P11: 0 | Q11: =SUM(D11:P11) -> 1094
B12: FACE TOWEL | C12: 0.058 | D12: 0 | E12: 1190 | F12: 0 | G12: 0 | H12: 0 | I12: 118 | J12: 0 | K12: 0 | L12: 0 | M12: 0 | N12: 0 | O12: 0 | P12: 0 | Q12: =SUM(D12:P12) -> 1308
B13: W/FACE TOWEL | C13: 0.058 | D13: 1239 | E13: 0 | F13: 0 | G13: 0 | H13: 0 | I13: 0 | J13: 0 | K13: 0 | L13: 0 | M13: 0 | N13: 0 | O13: 0 | P13: 0 | Q13: =SUM(D13:P13) -> 1239
B14: GUEST LAUNDRY | C14: 0.282 | D14: 0 | E14: 0 | F14: 0 | G14: 0 | H14: 0 | I14: 0 | J14: 0 | K14: 0 | L14: 0 | M14: 0 | N14: 0 | O14: 0 | P14: 439 | Q14: =SUM(D14:P14) -> 439
B15: GYM TOWEL | C15: 0.65 | D15: 0 | E15: 0 | F15: 0 | G15: 43 | H15: 0 | I15: 0 | J15: 0 | K15: 0 | L15: 0 | M15: 0 | N15: 0 | O15: 0 | P15: 0 | Q15: =SUM(D15:P15) -> 43
B16: HAND TOWEL | C16: 0.186 | D16: 0 | E16: 1442 | F16: 0 | G16: 0 | H16: 0 | I16: 114 | J16: 0 | K16: 0 | L16: 0 | M16: 0 | N16: 0 | O16: 0 | P16: 0 | Q16: =SUM(D16:P16) -> 1556
... B18: PILLOW CASE | C18: 0.142 | D18: 0 | E18: 2462 | F18: 0 | G18: 0 | H18: 0 | I18: 0 | J18: 0 | K18: 0 | L18: 0 | M18: 0 | N18: 371 | O18: 0 | P18: 0 | Q18: =SUM(D18:P18) -> 2833
B19: POOL TOWEL | C19: 1.062 | D19: 0 | E19: 0 | F19: 0 | G19: 0 | I19: 93 | J19: 1733 | K19: 1733 | N19: 0 | O19: 0 | P19: 0 | Q19: =SUM(D19:P19) -> 3559
B20: QUILT COVER | C20: 1.185 | D20: 0 | E20: 0 | F20: 0 | G20: 0 | H20: 0 | I20: 0 | J20: 0 | K20: 0 | L20: 0 | M20: 0 | N20: 0 | O20: 0 | P20: 0 | Q20: =SUM(D20:P20) -> 0
B21: QUILT COVER(D) | C21: 1.9 | D21: 0 | E21: 511 | F21: 0 | G21: 0 | H21: 0 | I21: 0 | J21: 0 | K21: 0 | L21: 0 | M21: 0 | N21: 0 | O21: 0 | P21: 0 | Q21: =SUM(D21:P21) -> 511
B22: QUILT COVER(S) | C22: 1.494 | D22: 0 | E22: 465 | F22: 0 | G22: 0 | H22: 0 | I22: 0 | J22: 0 | K22: 0 | L22: 0 | M22: 0 | N22: 0 | O22: 0 | P22: 0 | Q22: =SUM(D22:P22) -> 465
B23: STW/DUSTER | C23: 0.087 | D23: 0 | E23: 0 | F23: 285 | G23: 0 | H23: 0 | I23: 0 | J23: 0 | K23: 0 | L23: 0 | M23: 0 | N23: 0 | O23: 0 | P23: 0 | Q23: =SUM(D23:P23) -> 285
B24: TABLE CLOTH | C24: 0.554 | D24: 0 | E24: 0 | F24: 0 | G24: 206 | H24: 0 | I24: 0 | J24: 0 | K24: 0 | L24: 0 | M24: 0 | N24: 0 | O24: 0 | P24: 0 | Q24: =SUM(D24:P24) -> 206
B25: UNIFORM - Outside | C25: 0.282 | D25: 0 | E25: 0 | F25: 0 | G25: 0 | H25: 0 | I25: 0 | J25: 0 | K25: 0 | L25: 0 | M25: 0 | N25: 0 | O25: 0 | P25: 0 | Q25: =SUM(D25:P25) -> 0
B26: OTHER | D26: 0 | E26: 0 | F26: 0 | G26: 0 | H26: 0 | I26: 0 | J26: 0 | K26: 0 | L26: 0 | M26: 0 | N26: 0 | O26: 0 | P26: 0 | Q26: =SUM(D26:P26) -> 0
D27: =SUM(D5:D26) -> 1239 | E27: =SUM(E5:E26) -> 11145 | F27: =SUM(F5:F26) -> 285 | G27: =SUM(G5:G26) -> 9235 | H27: =SUM(H5:H26) -> 0 | I27: =SUM(I5:I26) -> 974 | J27: =SUM(J5:J26) -> 1733 | K27: =SUM(K5:K26) -> 1733 | ... Q27: =SUM(Q5:Q26) -> 27895
B29: ENG/UNIFORM | C29: 0.331 | D29: 0 | E29: 0 | F29: 0 | G29: 0 | H29: 0 | I29: 0 | J29: 0 | K29: 0 | L29: 0 | M29: 0 | N29: 0 | O29: 409 | P29: 0 | Q29: =SUM(D29:P29) -> 409
B30: GRD/UNIFROM | C30: 0.289 | D30: 0 | E30: 0 | F30: 0 | G30: 0 | H30: 0 | I30: 0 | J30: 0 | K30: 0 | L30: 0 | M30: 0 | N30: 0 | O30: 424 | P30: 0 | Q30: =SUM(D30:P30) -> 424
B31: COOK UNIFORM | C31: 0.284 | D31: 0 | E31: 0 | F31: 2374 | G31: 0 | H31: 0 | I31: 0 | J31: 0 | K31: 0 | L31: 0 | M31: 0 | N31: 0 | O31: 0 | P31: 0 | Q31: =SUM(D31:P31) -> 2374
B32: STW/UNIFORM | C32: 0.343 | D32: 0 | E32: 0 | F32: 665 | G32: 0 | H32: 0 | I32: 0 | J32: 0 | K32: 0 | L32: 0 | M32: 0 | N32: 0 | O32: 0 | P32: 0 | Q32: =SUM(D32:P32) -> 665
B33: UNIFORM | C33: 0.203 | D33: 325 | E33: 974 | F33: 0 | G33: 702 | H33: 0 | I33: 176 | J33: 0 | K33: 0 | L33: 0 | M33: 0 | N33: 310 | O33: 0 | P33: 0 | Q33: =SUM(D33:P33) -> 2487
B34: UNIFORM(sup) | C34: 0.282 | D34: 0 | E34: 156 | F34: 0 | G34: 235 | H34: 512 | I34: 0 | J34: 0 | K34: 0 | L34: 512 | M34: 512 | N34: 0 | O34: 0 | P34: 0 | Q34: =SUM(D34:P34) -> 1927
B35: LAUNDRY UNIFORM | C35: 0.25 | D35: 0 | E35: 310 | F35: 0 | G35: 0 | H35: 0 | I35: 0 | J35: 0 | K35: 0 | L35: 0 | M35: 0 | N35: 0 | O35: 0 | P35: 0 | Q35: =SUM(D35:P35) -> 310
B36: EXECUTIVE CLOTH | C36: 0.289 | D36: 0 | E36: 0 | F36: 0 | G36: 0 | H36: 0 | I36: 0 | J36: 0 | K36: 0 | L36: 0 | M36: 0 | N36: 1850 | O36: 0 | P36: 0 | Q36: =SUM(D36:P36) -> 1850
D37: =SUM(D29:D36) -> 325 | E37: =SUM(E29:E36) -> 1440 | F37: =SUM(F29:F36) -> 3039 | G37: =SUM(G29:G36) -> 937 | H37: =SUM(H29:H36) -> 512 | I37: =SUM(I29:I36) -> 176 | J37: =SUM(J29:J36) -> 0 | K37: =SUM(K29:K36) -> 0 | ... Q37: =SUM(Q29:Q36) -> 10446
