Workbook

Sheet Commission_Report
A1: Hotel Travel Agent Commission Report
A3: Total Commission Payable | B3: =SUM($H$7:$H$306) -> 1537 | D3: Top Performing Agency | E3: =IFERROR(INDEX($B$7:$B$306,MATCH(MAX($H$7:$H$306),$H$7:$H$306,0))&" ("&INDEX($A$7:$A$306,MATCH(MAX($H$7:$H$306),$H$7:$H$306,0))&")","") -> Sunrise Travels (1234567) | I3: Revenue vs. Commission Ratio | J3: =IFERROR(SUM($H$7:$H$306)/SUM($D$7:$D$306),0) -> 0.043914286
A4: Tip: Edit Target_Settings to change thresholds/rates. Paste PMS data into PMS_Export. The report updates automatically.
A6: IATA Number | B6: Agent Name | C6: Basis | D6: Actual Revenue | E6: Actual Room Nights | F6: Tier Achieved | G6: Commission Type | H6: Commission Amount | I6: Incentive Tracking | J6: Final Payout | L6: Tier1_Threshold | M6: Tier2_Threshold | N6: Tier1_Rate | O6: Tier2_Rate | P6: Applied_Rate
A7: =IF(Target_Settings!A5="","",Target_Settings!A5) -> 1234567 | B7: =IF($A7="","",Target_Settings!B5) -> Sunrise Travels | C7: =IF($A7="","",Target_Settings!C5) -> Revenue | D7: =IF($A7="","",SUMIFS(PMS_Export!$G$4:$G$2003,PMS_Export!$A$4:$A$2003,$A7,PMS_Export!$E$4:$E$2003,"<>Cancelled")) -> 7400 | E7: =IF($A7="","",SUMIFS(PMS_Export!$H$4:$H$2003,PMS_Export!$A$4:$A$2003,$A7,PMS_Export!$E$4:$E$2003,"<>Cancelled")) -> 16 | F7: =IF($A7="","",IF($C7="Revenue",IF($D7>=$M7,"Tier 2",IF($D7>=$L7,"Tier 1","Below Tier 1")),IF($E7>=$M7,"Tier 2",IF($E7>=$L7,"Tier 1","Below Tier 1")))) -> Tier 1 | G7: =IF($A7="","",Target_Settings!F5) -> Percentage | H7: =IF($A7="","",IF($G7="Percentage",$D7*$P7,$E7*$P7)) -> 592 | I7: =IF($A7="","",IF($F7="Tier 2","",IF($C7="Revenue",IF($F7="Tier 1",IF($D7>=0.9*$M7,"Within 10% of Tier 2",""),IF($D7>=0.9*$L7,"Within 10% of Tier 1","")),IF($F7="Tier 1",IF($E7>=0.9*$M7,"Within 10% of Tier 2",""),IF($E7>=0.9*$L7,"Within 10% of Tier 1",""))))) -> Within 10% of Tier 2 | J7: =IF($A7="","",$H7) -> 592 | L7: =IF($A7="","",VLOOKUP($A7,Target_Settings!$A$5:$H$304,4,FALSE)) -> 4000 | M7: =IF($A7="","",VLOOKUP($A7,Target_Settings!$A$5:$H$304,5,FALSE)) -> 8000 | N7: =IF($A7="","",VLOOKUP($A7,Target_Settings!$A$5:$H$304,7,FALSE)) -> 0.08 | O7: =IF($A7="","",VLOOKUP($A7,Target_Settings!$A$5:$H$304,8,FALSE)) -> 0.1 | P7: =IF($A7="","",IF($F7="Tier 2",$O7,IF($F7="Tier 1",$N7,0))) -> 0.08
A8: =IF(Target_Settings!A6="","",Target_Settings!A6) -> 2345678 | B8: =IF($A8="","",Target_Settings!B6) -> BlueWave Holidays | C8: =IF($A8="","",Target_Settings!C6) -> Room Nights | D8: =IF($A8="","",SUMIFS(PMS_Export!$G$4:$G$2003,PMS_Export!$A$4:$A$2003,$A8,PMS_Export!$E$4:$E$2003,"<>Cancelled")) -> 11900 | E8: =IF($A8="","",SUMIFS(PMS_Export!$H$4:$H$2003,PMS_Export!$A$4:$A$2003,$A8,PMS_Export!$E$4:$E$2003,"<>Cancelled")) -> 31 | F8: =IF($A8="","",IF($C8="Revenue",IF($D8>=$M8,"Tier 2",IF($D8>=$L8,"Tier 1","Below Tier 1")),IF($E8>=$M8,"Tier 2",IF($E8>=$L8,"Tier 1","Below Tier 1")))) -> Tier 1 | G8: =IF($A8="","",Target_Settings!F6) -> Flat Fee per Night | H8: =IF($A8="","",IF($G8="Percentage",$D8*$P8,$E8*$P8)) -> 186 | I8: =IF($A8="","",IF($F8="Tier 2","",IF($C8="Revenue",IF($F8="Tier 1",IF($D8>=0.9*$M8,"Within 10% of Tier 2",""),IF($D8>=0.9*$L8,"Within 10% of Tier 1","")),IF($F8="Tier 1",IF($E8>=0.9*$M8,"Within 10% of Tier 2",""),IF($E8>=0.9*$L8,"Within 10% of Tier 1",""))))) -> Within 10% of Tier 2 | J8: =IF($A8="","",$H8) -> 186 | L8: =IF($A8="","",VLOOKUP($A8,Target_Settings!$A$5:$H$304,4,FALSE)) -> 15 | M8: =IF($A8="","",VLOOKUP($A8,Target_Settings!$A$5:$H$304,5,FALSE)) -> 34 | N8: =IF($A8="","",VLOOKUP($A8,Target_Settings!$A$5:$H$304,7,FALSE)) -> 6 | O8: =IF($A8="","",VLOOKUP($A8,Target_Settings!$A$5:$H$304,8,FALSE)) -> 8 | P8: =IF($A8="","",IF($F8="Tier 2",$O8,IF($F8="Tier 1",$N8,0))) -> 6
A9: =IF(Target_Settings!A7="","",Target_Settings!A7) -> 3456789 | B9: =IF($A9="","",Target_Settings!B7) -> Pearl Tours | C9: =IF($A9="","",Target_Settings!C7) -> Revenue | D9: =IF($A9="","",SUMIFS(PMS_Export!$G$4:$G$2003,PMS_Export!$A$4:$A$2003,$A9,PMS_Export!$E$4:$E$2003,"<>Cancelled")) -> 6300 | E9: =IF($A9="","",SUMIFS(PMS_Export!$H$4:$H$2003,PMS_Export!$A$4:$A$2003,$A9,PMS_Export!$E$4:$E$2003,"<>Cancelled")) -> 17 | F9: =IF($A9="","",IF($C9="Revenue",IF($D9>=$M9,"Tier 2",IF($D9>=$L9,"Tier 1","Below Tier 1")),IF($E9>=$M9,"Tier 2",IF($E9>=$L9,"Tier 1","Below Tier 1")))) -> Tier 1 | G9: =IF($A9="","",Target_Settings!F7) -> Percentage | H9: =IF($A9="","",IF($G9="Percentage",$D9*$P9,$E9*$P9)) -> 441 | I9: =IF($A9="","",IF($F9="Tier 2","",IF($C9="Revenue",IF($F9="Tier 1",IF($D9>=0.9*$M9,"Within 10% of Tier 2",""),IF($D9>=0.9*$L9,"Within 10% of Tier 1","")),IF($F9="Tier 1",IF($E9>=0.9*$M9,"Within 10% of Tier 2",""),IF($E9>=0.9*$L9,"Within 10% of Tier 1",""))))) -> Within 10% of Tier 2 | J9: =IF($A9="","",$H9) -> 441 | L9: =IF($A9="","",VLOOKUP($A9,Target_Settings!$A$5:$H$304,4,FALSE)) -> 3000 | M9: =IF($A9="","",VLOOKUP($A9,Target_Settings!$A$5:$H$304,5,FALSE)) -> 7000 | N9: =IF($A9="","",VLOOKUP($A9,Target_Settings!$A$5:$H$304,7,FALSE)) -> 0.07 | O9: =IF($A9="","",VLOOKUP($A9,Target_Settings!$A$5:$H$304,8,FALSE)) -> 0.09 | P9: =IF($A9="","",IF($F9="Tier 2",$O9,IF($F9="Tier 1",$N9,0))) -> 0.07
A10: =IF(Target_Settings!A8="","",Target_Settings!A8) -> 4567890 | B10: =IF($A10="","",Target_Settings!B8) -> Lanka Luxe | C10: =IF($A10="","",Target_Settings!C8) -> Room Nights | D10: =IF($A10="","",SUMIFS(PMS_Export!$G$4:$G$2003,PMS_Export!$A$4:$A$2003,$A10,PMS_Export!$E$4:$E$2003,"<>Cancelled")) -> 4700 | E10: =IF($A10="","",SUMIFS(PMS_Export!$H$4:$H$2003,PMS_Export!$A$4:$A$2003,$A10,PMS_Export!$E$4:$E$2003,"<>Cancelled")) -> 14 | F10: =IF($A10="","",IF($C10="Revenue",IF($D10>=$M10,"Tier 2",IF($D10>=$L10,"Tier 1","Below Tier 1")),IF($E10>=$M10,"Tier 2",IF($E10>=$L10,"Tier 1","Below Tier 1")))) -> Tier 1 | G10: =IF($A10="","",Target_Settings!F8) -> Percentage | H10: =IF($A10="","",IF($G10="Percentage",$D10*$P10,$E10*$P10)) -> 282 | I10: =IF($A10="","",IF($F10="Tier 2","",IF($C10="Revenue",IF($F10="Tier 1",IF($D10>=0.9*$M10,"Within 10% of Tier 2",""),IF($D10>=0.9*$L10,"Within 10% of Tier 1","")),IF($F10="Tier 1",IF($E10>=0.9*$M10,"Within 10% of Tier 2",""),IF($E10>=0.9*$L10,"Within 10% of Tier 1",""))))) | J10: =IF($A10="","",$H10) -> 282 | L10: =IF($A10="","",VLOOKUP($A10,Target_Settings!$A$5:$H$304,4,FALSE)) -> 10 | M10: =IF($A10="","",VLOOKUP($A10,Target_Settings!$A$5:$H$304,5,FALSE)) -> 23 | N10: =IF($A10="","",VLOOKUP($A10,Target_Settings!$A$5:$H$304,7,FALSE)) -> 0.06 | O10: =IF($A10="","",VLOOKUP($A10,Target_Settings!$A$5:$H$304,8,FALSE)) -> 0.08 | P10: =IF($A10="","",IF($F10="Tier 2",$O10,IF($F10="Tier 1",$N10,0))) -> 0.06
A11: =IF(Target_Settings!A9="","",Target_Settings!A9) -> 5678901 | B11: =IF($A11="","",Target_Settings!B9) -> GlobalStay Partners | C11: =IF($A11="","",Target_Settings!C9) -> Revenue | D11: =IF($A11="","",SUMIFS(PMS_Export!$G$4:$G$2003,PMS_Export!$A$4:$A$2003,$A11,PMS_Export!$E$4:$E$2003,"<>Cancelled")) -> 4700 | E11: =IF($A11="","",SUMIFS(PMS_Export!$H$4:$H$2003,PMS_Export!$A$4:$A$2003,$A11,PMS_Export!$E$4:$E$2003,"<>Cancelled")) -> 9 | F11: =IF($A11="","",IF($C11="Revenue",IF($D11>=$M11,"Tier 2",IF($D11>=$L11,"Tier 1","Below Tier 1")),IF($E11>=$M11,"Tier 2",IF($E11>=$L11,"Tier 1","Below Tier 1")))) -> Tier 1 | G11: =IF($A11="","",Target_Settings!F9) -> Flat Fee per Night | H11: =IF($A11="","",IF($G11="Percentage",$D11*$P11,$E11*$P11)) -> 36 | I11: =IF($A11="","",IF($F11="Tier 2","",IF($C11="Revenue",IF($F11="Tier 1",IF($D11>=0.9*$M11,"Within 10% of Tier 2",""),IF($D11>=0.9*$L11,"Within 10% of Tier 1","")),IF($F11="Tier 1",IF($E11>=0.9*$M11,"Within 10% of Tier 2",""),IF($E11>=0.9*$L11,"Within 10% of Tier 1",""))))) | J11: =IF($A11="","",$H11) -> 36 | L11: =IF($A11="","",VLOOKUP($A11,Target_Settings!$A$5:$H$304,4,FALSE)) -> 4500 | M11: =IF($A11="","",VLOOKUP($A11,Target_Settings!$A$5:$H$304,5,FALSE)) -> 8000 | N11: =IF($A11="","",VLOOKUP($A11,Target_Settings!$A$5:$H$304,7,FALSE)) -> 4 | O11: =IF($A11="","",VLOOKUP($A11,Target_Settings!$A$5:$H$304,8,FALSE)) -> 5 | P11: =IF($A11="","",IF($F11="Tier 2",$O11,IF($F11="Tier 1",$N11,0))) -> 4
A12: =IF(Target_Settings!A10="","",Target_Settings!A10) | B12: =IF($A12="","",Target_Settings!B10) | C12: =IF($A12="","",Target_Settings!C10) | D12: =IF($A12="","",SUMIFS(PMS_Export!$G$4:$G$2003,PMS_Export!$A$4:$A$2003,$A12,PMS_Export!$E$4:$E$2003,"<>Cancelled")) | E12: =IF($A12="","",SUMIFS(PMS_Export!$H$4:$H$2003,PMS_Export!$A$4:$A$2003,$A12,PMS_Export!$E$4:$E$2003,"<>Cancelled")) | F12: =IF($A12="","",IF($C12="Revenue",IF($D12>=$M12,"Tier 2",IF($D12>=$L12,"Tier 1","Below Tier 1")),IF($E12>=$M12,"Tier 2",IF($E12>=$L12,"Tier 1","Below Tier 1")))) | G12: =IF($A12="","",Target_Settings!F10) | H12: =IF($A12="","",IF($G12="Percentage",$D12*$P12,$E12*$P12)) | I12: =IF($A12="","",IF($F12="Tier 2","",IF($C12="Revenue",IF($F12="Tier 1",IF($D12>=0.9*$M12,"Within 10% of Tier 2",""),IF($D12>=0.9*$L12,"Within 10% of Tier 1","")),IF($F12="Tier 1",IF($E12>=0.9*$M12,"Within 10% of Tier 2",""),IF($E12>=0.9*$L12,"Within 10% of Tier 1",""))))) | J12: =IF($A12="","",$H12) | L12: =IF($A12="","",VLOOKUP($A12,Target_Settings!$A$5:$H$304,4,FALSE)) | M12: =IF($A12="","",VLOOKUP($A12,Target_Settings!$A$5:$H$304,5,FALSE)) | N12: =IF($A12="","",VLOOKUP($A12,Target_Settings!$A$5:$H$304,7,FALSE)) | O12: =IF($A12="","",VLOOKUP($A12,Target_Settings!$A$5:$H$304,8,FALSE)) | P12: =IF($A12="","",IF($F12="Tier 2",$O12,IF($F12="Tier 1",$N12,0)))
A13: =IF(Target_Settings!A11="","",Target_Settings!A11) | B13: =IF($A13="","",Target_Settings!B11) | C13: =IF($A13="","",Target_Settings!C11) | D13: =IF($A13="","",SUMIFS(PMS_Export!$G$4:$G$2003,PMS_Export!$A$4:$A$2003,$A13,PMS_Export!$E$4:$E$2003,"<>Cancelled")) | E13: =IF($A13="","",SUMIFS(PMS_Export!$H$4:$H$2003,PMS_Export!$A$4:$A$2003,$A13,PMS_Export!$E$4:$E$2003,"<>Cancelled")) | F13: =IF($A13="","",IF($C13="Revenue",IF($D13>=$M13,"Tier 2",IF($D13>=$L13,"Tier 1","Below Tier 1")),IF($E13>=$M13,"Tier 2",IF($E13>=$L13,"Tier 1","Below Tier 1")))) | G13: =IF($A13="","",Target_Settings!F11) | H13: =IF($A13="","",IF($G13="Percentage",$D13*$P13,$E13*$P13)) | I13: =IF($A13="","",IF($F13="Tier 2","",IF($C13="Revenue",IF($F13="Tier 1",IF($D13>=0.9*$M13,"Within 10% of Tier 2",""),IF($D13>=0.9*$L13,"Within 10% of Tier 1","")),IF($F13="Tier 1",IF($E13>=0.9*$M13,"Within 10% of Tier 2",""),IF($E13>=0.9*$L13,"Within 10% of Tier 1",""))))) | J13: =IF($A13="","",$H13) | L13: =IF($A13="","",VLOOKUP($A13,Target_Settings!$A$5:$H$304,4,FALSE)) | M13: =IF($A13="","",VLOOKUP($A13,Target_Settings!$A$5:$H$304,5,FALSE)) | N13: =IF($A13="","",VLOOKUP($A13,Target_Settings!$A$5:$H$304,7,FALSE)) | O13: =IF($A13="","",VLOOKUP($A13,Target_Settings!$A$5:$H$304,8,FALSE)) | P13: =IF($A13="","",IF($F13="Tier 2",$O13,IF($F13="Tier 1",$N13,0)))
A14: =IF(Target_Settings!A12="","",Target_Settings!A12) | B14: =IF($A14="","",Target_Settings!B12) | C14: =IF($A14="","",Target_Settings!C12) | D14: =IF($A14="","",SUMIFS(PMS_Export!$G$4:$G$2003,PMS_Export!$A$4:$A$2003,$A14,PMS_Export!$E$4:$E$2003,"<>Cancelled")) | E14: =IF($A14="","",SUMIFS(PMS_Export!$H$4:$H$2003,PMS_Export!$A$4:$A$2003,$A14,PMS_Export!$E$4:$E$2003,"<>Cancelled")) | F14: =IF($A14="","",IF($C14="Revenue",IF($D14>=$M14,"Tier 2",IF($D14>=$L14,"Tier 1","Below Tier 1")),IF($E14>=$M14,"Tier 2",IF($E14>=$L14,"Tier 1","Below Tier 1")))) | G14: =IF($A14="","",Target_Settings!F12) | H14: =IF($A14="","",IF($G14="Percentage",$D14*$P14,$E14*$P14)) | I14: =IF($A14="","",IF($F14="Tier 2","",IF($C14="Revenue",IF($F14="Tier 1",IF($D14>=0.9*$M14,"Within 10% of Tier 2",""),IF($D14>=0.9*$L14,"Within 10% of Tier 1","")),IF($F14="Tier 1",IF($E14>=0.9*$M14,"Within 10% of Tier 2",""),IF($E14>=0.9*$L14,"Within 10% of Tier 1",""))))) | J14: =IF($A14="","",$H14) | L14: =IF($A14="","",VLOOKUP($A14,Target_Settings!$A$5:$H$304,4,FALSE)) | M14: =IF($A14="","",VLOOKUP($A14,Target_Settings!$A$5:$H$304,5,FALSE)) | N14: =IF($A14="","",VLOOKUP($A14,Target_Settings!$A$5:$H$304,7,FALSE)) | O14: =IF($A14="","",VLOOKUP($A14,Target_Settings!$A$5:$H$304,8,FALSE)) | P14: =IF($A14="","",IF($F14="Tier 2",$O14,IF($F14="Tier 1",$N14,0)))
A15: =IF(Target_Settings!A13="","",Target_Settings!A13) | B15: =IF($A15="","",Target_Settings!B13) | C15: =IF($A15="","",Target_Settings!C13) | D15: =IF($A15="","",SUMIFS(PMS_Export!$G$4:$G$2003,PMS_Export!$A$4:$A$2003,$A15,PMS_Export!$E$4:$E$2003,"<>Cancelled")) | E15: =IF($A15="","",SUMIFS(PMS_Export!$H$4:$H$2003,PMS_Export!$A$4:$A$2003,$A15,PMS_Export!$E$4:$E$2003,"<>Cancelled")) | F15: =IF($A15="","",IF($C15="Revenue",IF($D15>=$M15,"Tier 2",IF($D15>=$L15,"Tier 1","Below Tier 1")),IF($E15>=$M15,"Tier 2",IF($E15>=$L15,"Tier 1","Below Tier 1")))) | G15: =IF($A15="","",Target_Settings!F13) | H15: =IF($A15="","",IF($G15="Percentage",$D15*$P15,$E15*$P15)) | I15: =IF($A15="","",IF($F15="Tier 2","",IF($C15="Revenue",IF($F15="Tier 1",IF($D15>=0.9*$M15,"Within 10% of Tier 2",""),IF($D15>=0.9*$L15,"Within 10% of Tier 1","")),IF($F15="Tier 1",IF($E15>=0.9*$M15,"Within 10% of Tier 2",""),IF($E15>=0.9*$L15,"Within 10% of Tier 1",""))))) | J15: =IF($A15="","",$H15) | L15: =IF($A15="","",VLOOKUP($A15,Target_Settings!$A$5:$H$304,4,FALSE)) | M15: =IF($A15="","",VLOOKUP($A15,Target_Settings!$A$5:$H$304,5,FALSE)) | N15: =IF($A15="","",VLOOKUP($A15,Target_Settings!$A$5:$H$304,7,FALSE)) | O15: =IF($A15="","",VLOOKUP($A15,Target_Settings!$A$5:$H$304,8,FALSE)) | P15: =IF($A15="","",IF($F15="Tier 2",$O15,IF($F15="Tier 1",$N15,0)))
A16: =IF(Target_Settings!A14="","",Target_Settings!A14) | B16: =IF($A16="","",Target_Settings!B14) | C16: =IF($A16="","",Target_Settings!C14) | D16: =IF($A16="","",SUMIFS(PMS_Export!$G$4:$G$2003,PMS_Export!$A$4:$A$2003,$A16,PMS_Export!$E$4:$E$2003,"<>Cancelled")) | E16: =IF($A16="","",SUMIFS(PMS_Export!$H$4:$H$2003,PMS_Export!$A$4:$A$2003,$A16,PMS_Export!$E$4:$E$2003,"<>Cancelled")) | F16: =IF($A16="","",IF($C16="Revenue",IF($D16>=$M16,"Tier 2",IF($D16>=$L16,"Tier 1","Below Tier 1")),IF($E16>=$M16,"Tier 2",IF($E16>=$L16,"Tier 1","Below Tier 1")))) | G16: =IF($A16="","",Target_Settings!F14) | H16: =IF($A16="","",IF($G16="Percentage",$D16*$P16,$E16*$P16)) | I16: =IF($A16="","",IF($F16="Tier 2","",IF($C16="Revenue",IF($F16="Tier 1",IF($D16>=0.9*$M16,"Within 10% of Tier 2",""),IF($D16>=0.9*$L16,"Within 10% of Tier 1","")),IF($F16="Tier 1",IF($E16>=0.9*$M16,"Within 10% of Tier 2",""),IF($E16>=0.9*$L16,"Within 10% of Tier 1",""))))) | J16: =IF($A16="","",$H16) | L16: =IF($A16="","",VLOOKUP($A16,Target_Settings!$A$5:$H$304,4,FALSE)) | M16: =IF($A16="","",VLOOKUP($A16,Target_Settings!$A$5:$H$304,5,FALSE)) | N16: =IF($A16="","",VLOOKUP($A16,Target_Settings!$A$5:$H$304,7,FALSE)) | O16: =IF($A16="","",VLOOKUP($A16,Target_Settings!$A$5:$H$304,8,FALSE)) | P16: =IF($A16="","",IF($F16="Tier 2",$O16,IF($F16="Tier 1",$N16,0)))
A17: =IF(Target_Settings!A15="","",Target_Settings!A15) | B17: =IF($A17="","",Target_Settings!B15) | C17: =IF($A17="","",Target_Settings!C15) | D17: =IF($A17="","",SUMIFS(PMS_Export!$G$4:$G$2003,PMS_Export!$A$4:$A$2003,$A17,PMS_Export!$E$4:$E$2003,"<>Cancelled")) | E17: =IF($A17="","",SUMIFS(PMS_Export!$H$4:$H$2003,PMS_Export!$A$4:$A$2003,$A17,PMS_Export!$E$4:$E$2003,"<>Cancelled")) | F17: =IF($A17="","",IF($C17="Revenue",IF($D17>=$M17,"Tier 2",IF($D17>=$L17,"Tier 1","Below Tier 1")),IF($E17>=$M17,"Tier 2",IF($E17>=$L17,"Tier 1","Below Tier 1")))) | G17: =IF($A17="","",Target_Settings!F15) | H17: =IF($A17="","",IF($G17="Percentage",$D17*$P17,$E17*$P17)) | I17: =IF($A17="","",IF($F17="Tier 2","",IF($C17="Revenue",IF($F17="Tier 1",IF($D17>=0.9*$M17,"Within 10% of Tier 2",""),IF($D17>=0.9*$L17,"Within 10% of Tier 1","")),IF($F17="Tier 1",IF($E17>=0.9*$M17,"Within 10% of Tier 2",""),IF($E17>=0.9*$L17,"Within 10% of Tier 1",""))))) | J17: =IF($A17="","",$H17) | L17: =IF($A17="","",VLOOKUP($A17,Target_Settings!$A$5:$H$304,4,FALSE)) | M17: =IF($A17="","",VLOOKUP($A17,Target_Settings!$A$5:$H$304,5,FALSE)) | N17: =IF($A17="","",VLOOKUP($A17,Target_Settings!$A$5:$H$304,7,FALSE)) | O17: =IF($A17="","",VLOOKUP($A17,Target_Settings!$A$5:$H$304,8,FALSE)) | P17: =IF($A17="","",IF($F17="Tier 2",$O17,IF($F17="Tier 1",$N17,0)))
A18: =IF(Target_Settings!A16="","",Target_Settings!A16) | B18: =IF($A18="","",Target_Settings!B16) | C18: =IF($A18="","",Target_Settings!C16) | D18: =IF($A18="","",SUMIFS(PMS_Export!$G$4:$G$2003,PMS_Export!$A$4:$A$2003,$A18,PMS_Export!$E$4:$E$2003,"<>Cancelled")) | E18: =IF($A18="","",SUMIFS(PMS_Export!$H$4:$H$2003,PMS_Export!$A$4:$A$2003,$A18,PMS_Export!$E$4:$E$2003,"<>Cancelled")) | F18: =IF($A18="","",IF($C18="Revenue",IF($D18>=$M18,"Tier 2",IF($D18>=$L18,"Tier 1","Below Tier 1")),IF($E18>=$M18,"Tier 2",IF($E18>=$L18,"Tier 1","Below Tier 1")))) | G18: =IF($A18="","",Target_Settings!F16) | H18: =IF($A18="","",IF($G18="Percentage",$D18*$P18,$E18*$P18)) | I18: =IF($A18="","",IF($F18="Tier 2","",IF($C18="Revenue",IF($F18="Tier 1",IF($D18>=0.9*$M18,"Within 10% of Tier 2",""),IF($D18>=0.9*$L18,"Within 10% of Tier 1","")),IF($F18="Tier 1",IF($E18>=0.9*$M18,"Within 10% of Tier 2",""),IF($E18>=0.9*$L18,"Within 10% of Tier 1",""))))) | J18: =IF($A18="","",$H18) | L18: =IF($A18="","",VLOOKUP($A18,Target_Settings!$A$5:$H$304,4,FALSE)) | M18: =IF($A18="","",VLOOKUP($A18,Target_Settings!$A$5:$H$304,5,FALSE)) | N18: =IF($A18="","",VLOOKUP($A18,Target_Settings!$A$5:$H$304,7,FALSE)) | O18: =IF($A18="","",VLOOKUP($A18,Target_Settings!$A$5:$H$304,8,FALSE)) | P18: =IF($A18="","",IF($F18="Tier 2",$O18,IF($F18="Tier 1",$N18,0)))
... A306: =IF(Target_Settings!A304="","",Target_Settings!A304) | B306: =IF($A306="","",Target_Settings!B304) | C306: =IF($A306="","",Target_Settings!C304) | D306: =IF($A306="","",SUMIFS(PMS_Export!$G$4:$G$2003,PMS_Export!$A$4:$A$2003,$A306,PMS_Export!$E$4:$E$2003,"<>Cancelled")) | E306: =IF($A306="","",SUMIFS(PMS_Export!$H$4:$H$2003,PMS_Export!$A$4:$A$2003,$A306,PMS_Export!$E$4:$E$2003,"<>Cancelled")) | F306: =IF($A306="","",IF($C306="Revenue",IF($D306>=$M306,"Tier 2",IF($D306>=$L306,"Tier 1","Below Tier 1")),IF($E306>=$M306,"Tier 2",IF($E306>=$L306,"Tier 1","Below Tier 1")))) | G306: =IF($A306="","",Target_Settings!F304) | H306: =IF($A306="","",IF($G306="Percentage",$D306*$P306,$E306*$P306)) | I306: =IF($A306="","",IF($F306="Tier 2","",IF($C306="Revenue",IF($F306="Tier 1",IF($D306>=0.9*$M306,"Within 10% of Tier 2",""),IF($D306>=0.9*$L306,"Within 10% of Tier 1","")),IF($F306="Tier 1",IF($E306>=0.9*$M306,"Within 10% of Tier 2",""),IF($E306>=0.9*$L306,"Within 10% of Tier 1",""))))) | J306: =IF($A306="","",$H306) | L306: =IF($A306="","",VLOOKUP($A306,Target_Settings!$A$5:$H$304,4,FALSE)) | M306: =IF($A306="","",VLOOKUP($A306,Target_Settings!$A$5:$H$304,5,FALSE)) | N306: =IF($A306="","",VLOOKUP($A306,Target_Settings!$A$5:$H$304,7,FALSE)) | O306: =IF($A306="","",VLOOKUP($A306,Target_Settings!$A$5:$H$304,8,FALSE)) | P306: =IF($A306="","",IF($F306="Tier 2",$O306,IF($F306="Tier 1",$N306,0)))

Sheet Target_Settings
A1: Enter each agent's targets and commission rules below. These settings drive the Commission_Report.
A4: IATA Number | B4: Agent Name | C4: Basis | D4: Tier 1 Threshold | E4: Tier 2 Threshold | F4: Commission Type | G4: Tier 1 Rate | H4: Tier 2 Rate | J4: Notes:
A5: 1234567 | B5: Sunrise Travels | C5: Revenue | D5: 4000 | E5: 8000 | F5: Percentage | G5: 0.08 | H5: 0.1 | J5: • For Percentage, enter rates as 10% or 0.10.
A6: 2345678 | B6: BlueWave Holidays | C6: Room Nights | D6: 15 | E6: 34 | F6: Flat Fee per Night | G6: 6 | H6: 8 | J6: • For Flat Fee per Night, enter rates as $ per night.
A7: 3456789 | B7: Pearl Tours | C7: Revenue | D7: 3000 | E7: 7000 | F7: Percentage | G7: 0.07 | H7: 0.09 | J7: • Thresholds match the chosen Basis (Revenue or Room Nights).
A8: 4567890 | B8: Lanka Luxe | C8: Room Nights | D8: 10 | E8: 23 | F8: Percentage | G8: 0.06 | H8: 0.08
A9: 5678901 | B9: GlobalStay Partners | C9: Revenue | D9: 4500 | E9: 8000 | F9: Flat Fee per Night | G9: 4 | H9: 5

Sheet PMS_Export
A1: Paste/Import PMS export data below (do not change column headers).
A3: IATA Number | B3: Agent Name | C3: Arrival Date | D3: Departure Date | E3: Reservation Status | F3: Market Code | G3: Net Room Revenue | H3: Total Room Nights
A4: 1234567 | B4: Sunrise Travels | C4: 46025 | D4: 46029 | E4: Checked Out | F4: TA | G4: 1800 | H4: 4
A5: 1234567 | B5: Sunrise Travels | C5: 46032 | D5: 46035 | E5: Checked Out | F5: TA | G5: 1500 | H5: 3
A6: 1234567 | B6: Sunrise Travels | C6: 46040 | D6: 46045 | E6: Checked Out | F6: TA | G6: 2200 | H6: 5
A7: 1234567 | B7: Sunrise Travels | C7: 46050 | D7: 46054 | E7: Checked Out | F7: TA | G7: 1900 | H7: 4
A8: 2345678 | B8: BlueWave Holidays | C8: 46026 | D8: 46034 | E8: Checked Out | F8: TA | G8: 3200 | H8: 8
A9: 2345678 | B9: BlueWave Holidays | C9: 46036 | D9: 46042 | E9: Checked Out | F9: TA | G9: 2400 | H9: 6
A10: 2345678 | B10: BlueWave Holidays | C10: 46044 | D10: 46051 | E10: Checked Out | F10: TA | G10: 2800 | H10: 7
A11: 2345678 | B11: BlueWave Holidays | C11: 46052 | D11: 46062 | E11: In House | F11: TA | G11: 3500 | H11: 10
A12: 3456789 | B12: Pearl Tours | C12: 46024 | D12: 46027 | E12: Checked Out | F12: TA | G12: 1200 | H12: 3
A13: 3456789 | B13: Pearl Tours | C13: 46030 | D13: 46034 | E13: Checked Out | F13: TA | G13: 1600 | H13: 4
A14: 3456789 | B14: Pearl Tours | C14: 46038 | D14: 46043 | E14: Checked Out | F14: TA | G14: 1800 | H14: 5
A15: 3456789 | B15: Pearl Tours | C15: 46047 | D15: 46052 | E15: Checked Out | F15: TA | G15: 1700 | H15: 5
... A21: 5678901 | B21: GlobalStay Partners | C21: 46042 | D21: 46044 | E21: Cancelled | F21: TA | G21: 0 | H21: 0

Sheet HowTo
A1: 1) Set up agent targets (Target_Settings)
A3: 1. Open Target_Settings.
A4: 2. Add one row per agent (unique IATA Number).
A5: 3. Choose:
A6: Basis: Revenue or Room Nights
A7: Tier 1 Threshold and Tier 2 Threshold
A8: Commission Type: Percentage or Flat Fee per Night
A9: Tier 1 Rate and Tier 2 Rate
A10: If Percentage: enter like 8%, 10%
A11: If Flat Fee per Night: enter like 6, 8 (currency per night)
A13: 2) Paste PMS export data (PMS_Export)
A15: 1. Go to PMS_Export.
... A41: Confirm thresholds are numbers, not text.
